BEGIN:VCALENDAR
VERSION:2.0
METHOD:PUBLISH
BEGIN:VEVENT
DTSTART:20180518T130000Z
DTEND:20180520T180000Z
LOCATION:Orlando, FL 32819
TRANSP: OPAQUE
SEQUENCE:0
UID:
DTSTAMP:20260421T055310Z
SUMMARY:Estate Sale in Dr. Phillips-50% OFF SUNDAY-Estate Sales In Orlando
DESCRIPTION:Estate Sale in Dr. Phillips-50% OFF SUNDAY-Estate Sales In Orlando Estate Sale Stars 
UID:1776772390
STREET-ADDRESS:See website
POSTAL-CODE:32819
LOCALITY:Orlando
REGION:ABBREV=FL
COUNTRY:ABBREV=US;ABBREV=USA:United States
URL;TYPE=Event Listing:https://estatesales.org/estate-sales/fl/orlando/32819/estate-sale-in-dr-phillips25-1507773
PRIORITY:1
CLASS:PUBLIC
SEQUENCE:0
STATUS:CONFIRMED
TRANSP:OPAQUE
END:VEVENT
END:VCALENDAR
