BEGIN:VCALENDAR
VERSION:2.0
METHOD:PUBLISH
BEGIN:VEVENT
DTSTART:20170518T140000Z
DTEND:20170520T200000Z
LOCATION:Land O Lakes, FL 34639
TRANSP: OPAQUE
SEQUENCE:0
UID:
DTSTAMP:20260425T162228Z
SUMMARY:Hey Land O' Lakes! Welcome To Our One Of-A-Kind 3-Day Sale
DESCRIPTION:Hey Land O' Lakes! Welcome To Our One Of-A-Kind 3-Day Sale A PRESTIGE ESTATE SERVICES National Company 
UID:1777155748
STREET-ADDRESS:See website
POSTAL-CODE:34639
LOCALITY:Land O Lakes
REGION:ABBREV=FL
COUNTRY:ABBREV=US;ABBREV=USA:United States
URL;TYPE=Event Listing:https://estatesales.org/estate-sales/fl/land-o-lakes/34639/hey-land-o-lakes-welcome-1198517
PRIORITY:1
CLASS:PUBLIC
SEQUENCE:0
STATUS:CONFIRMED
TRANSP:OPAQUE
END:VEVENT
END:VCALENDAR
