BEGIN:VCALENDAR
VERSION:2.0
METHOD:PUBLISH
BEGIN:VEVENT
DTSTART:20170518T140000Z
DTEND:20170520T200000Z
LOCATION:Potomac, MD 20854
TRANSP: OPAQUE
SEQUENCE:0
UID:
DTSTAMP:20260424T133042Z
SUMMARY:PRISTINE in POTOMAC
DESCRIPTION:PRISTINE in POTOMAC Great Estate Solutions 
UID:1777059042
STREET-ADDRESS:See website
POSTAL-CODE:20854
LOCALITY:Potomac
REGION:ABBREV=MD
COUNTRY:ABBREV=US;ABBREV=USA:United States
URL;TYPE=Event Listing:https://estatesales.org/estate-sales/md/potomac/20854/pristine-in-potomac-1190221
PRIORITY:1
CLASS:PUBLIC
SEQUENCE:0
STATUS:CONFIRMED
TRANSP:OPAQUE
END:VEVENT
END:VCALENDAR
