BEGIN:VCALENDAR
VERSION:2.0
METHOD:PUBLISH
BEGIN:VEVENT
DTSTART:20140518T170000Z
DTEND:20140518T190000Z
LOCATION:Corona, CA 92881
TRANSP: OPAQUE
SEQUENCE:0
UID:
DTSTAMP:20260425T044912Z
SUMMARY:BLOWOUT SALE EVERYTHING  MUST GO - ESTATE SALE
DESCRIPTION:BLOWOUT SALE EVERYTHING  MUST GO - ESTATE SALE Juanita's JUNK in the TRUNK - Estate Sales & Liquidation Sales 
UID:1777114152
STREET-ADDRESS:See website
POSTAL-CODE:92881
LOCALITY:Corona
REGION:ABBREV=CA
COUNTRY:ABBREV=US;ABBREV=USA:United States
URL;TYPE=Event Listing:https://estatesales.org/estate-sales/ca/corona/92881/blowout-sale-everything-must-go-378051
PRIORITY:1
CLASS:PUBLIC
SEQUENCE:0
STATUS:CONFIRMED
TRANSP:OPAQUE
END:VEVENT
END:VCALENDAR
