BEGIN:VCALENDAR
VERSION:2.0
METHOD:PUBLISH
BEGIN:VEVENT
DTSTART:20140518T140000Z
DTEND:20140519T000000Z
LOCATION:By appointment only.
TRANSP: OPAQUE
SEQUENCE:0
UID:
DTSTAMP:20260419T201430Z
SUMMARY:ATVs, Trailers, Furniture, Glassware, Redwing
DESCRIPTION:ATVs, Trailers, Furniture, Glassware, Redwing Nopa Trucking LLC 
UID:1776651270
STREET-ADDRESS:See website
POSTAL-CODE:55317
LOCALITY:Chanhassen
REGION:ABBREV=MN
COUNTRY:ABBREV=US;ABBREV=USA:United States
URL;TYPE=Event Listing:https://estatesales.org/estate-sales/mn/chanhassen/55317/atvs-trailers-furniture-glassware-redwing-388099
PRIORITY:1
CLASS:PUBLIC
SEQUENCE:0
STATUS:CONFIRMED
TRANSP:OPAQUE
END:VEVENT
END:VCALENDAR
