BEGIN:VCALENDAR
VERSION:2.0
METHOD:PUBLISH
BEGIN:VEVENT
DTSTART:20260517T130000Z
DTEND:20260517T180000Z
LOCATION:Hanover, MA 02339 (Full address will be shown on Sat, May 16 8:00pm)
TRANSP: OPAQUE
SEQUENCE:0
UID:
DTSTAMP:20260420T224333Z
SUMMARY:SENSATIONAL HANOVER ESTATE SALE MAY 17TH ANTIQUES, ORIGINAL PROVINCETOWN ART, PAINTINGS, STERLING SILVER, FINE FURNITURE, ORIENTAL RUGS, HOME DECOR, JOHN DEERE TRACTOR & MORE!!!
DESCRIPTION:SENSATIONAL HANOVER ESTATE SALE MAY 17TH ANTIQUES, ORIGINAL PROVINCETOWN ART, PAINTINGS, STERLING SILVER, FINE FURNITURE, ORIENTAL RUGS, HOME DECOR, JOHN DEERE TRACTOR & MORE!!! BEST RATE CLEANOUTS & ESTATE SALES 
UID:1776746613
STREET-ADDRESS:See website
POSTAL-CODE:02339
LOCALITY:Hanover
REGION:ABBREV=MA
COUNTRY:ABBREV=US;ABBREV=USA:United States
URL;TYPE=Event Listing:https://estatesales.org/estate-sales/ma/hanover/02339/sensational-hanover-estate-sale-may-2436249
PRIORITY:1
CLASS:PUBLIC
SEQUENCE:0
STATUS:CONFIRMED
TRANSP:OPAQUE
END:VEVENT
END:VCALENDAR
