BEGIN:VCALENDAR
VERSION:2.0
METHOD:PUBLISH
BEGIN:VEVENT
DTSTART:20250517T140000Z
DTEND:20250517T190000Z
LOCATION:Cheltenham, PA 19012
TRANSP: OPAQUE
SEQUENCE:0
UID:
DTSTAMP:20260424T193457Z
SUMMARY:B&B Estate Sales Is Hosting A Sale In Cheltenham, Pa
DESCRIPTION:B&B Estate Sales Is Hosting A Sale In Cheltenham, Pa B&B Estate Sales 
UID:1777080897
STREET-ADDRESS:See website
POSTAL-CODE:19012
LOCALITY:Cheltenham
REGION:ABBREV=PA
COUNTRY:ABBREV=US;ABBREV=USA:United States
URL;TYPE=Event Listing:https://estatesales.org/estate-sales/pa/cheltenham-township/19012/bb-estate-sales-is-hosting-2369920
PRIORITY:1
CLASS:PUBLIC
SEQUENCE:0
STATUS:CONFIRMED
TRANSP:OPAQUE
END:VEVENT
END:VCALENDAR
