BEGIN:VCALENDAR
VERSION:2.0
METHOD:PUBLISH
BEGIN:VEVENT
DTSTART:20250517T140000Z
DTEND:20250518T190000Z
LOCATION:Helenville, WI 53137
TRANSP: OPAQUE
SEQUENCE:0
UID:
DTSTAMP:20260424T153339Z
SUMMARY:50% OFF SAT 75% OFF SUN Helenville Estate Sale - Harley Davidson, Records, Hunting, Camping, vtg clothes, cameras, instruments, Tools, & more
DESCRIPTION:50% OFF SAT 75% OFF SUN Helenville Estate Sale - Harley Davidson, Records, Hunting, Camping, vtg clothes, cameras, instruments, Tools, & more Best Estate Services Inc. 
UID:1777066419
STREET-ADDRESS:See website
POSTAL-CODE:53137
LOCALITY:Helenville
REGION:ABBREV=WI
COUNTRY:ABBREV=US;ABBREV=USA:United States
URL;TYPE=Event Listing:https://estatesales.org/estate-sales/wi/helenville/53137/50-off-sat-75-off-2377852
PRIORITY:1
CLASS:PUBLIC
SEQUENCE:0
STATUS:CONFIRMED
TRANSP:OPAQUE
END:VEVENT
END:VCALENDAR
