BEGIN:VCALENDAR
VERSION:2.0
METHOD:PUBLISH
BEGIN:VEVENT
DTSTART:20250517T150000Z
DTEND:20250517T200000Z
LOCATION:Manteca, CA 95337
TRANSP: OPAQUE
SEQUENCE:0
UID:
DTSTAMP:20260422T005911Z
SUMMARY:Vintage & Antique Furniture Estate Sale
DESCRIPTION:Vintage & Antique Furniture Estate Sale Caring Transitions of Manteca 
UID:1776841151
STREET-ADDRESS:See website
POSTAL-CODE:95337
LOCALITY:Manteca
REGION:ABBREV=CA
COUNTRY:ABBREV=US;ABBREV=USA:United States
URL;TYPE=Event Listing:https://estatesales.org/estate-sales/ca/manteca/95337/vintage-antique-furniture-estate-sale-2378211
PRIORITY:1
CLASS:PUBLIC
SEQUENCE:0
STATUS:CONFIRMED
TRANSP:OPAQUE
END:VEVENT
END:VCALENDAR
