BEGIN:VCALENDAR
VERSION:2.0
METHOD:PUBLISH
BEGIN:VEVENT
DTSTART:20240517T140000Z
DTEND:20240519T190000Z
LOCATION:New Milford, CT 06776
TRANSP: OPAQUE
SEQUENCE:0
UID:
DTSTAMP:20260424T133643Z
SUMMARY:“New England Estate Sales and Auctions. Modern, MCM, Fine Art, Indoor/Outdoor Furniture & Vintage Decor”
DESCRIPTION:“New England Estate Sales and Auctions. Modern, MCM, Fine Art, Indoor/Outdoor Furniture & Vintage Decor” New England Estate Sales & Auction Company 
UID:1777059403
STREET-ADDRESS:See website
POSTAL-CODE:06776
LOCALITY:New Milford
REGION:ABBREV=CT
COUNTRY:ABBREV=US;ABBREV=USA:United States
URL;TYPE=Event Listing:https://estatesales.org/estate-sales/ct/new-milford/06776/new-england-estate-salesauctions-fri-2315863
PRIORITY:1
CLASS:PUBLIC
SEQUENCE:0
STATUS:CONFIRMED
TRANSP:OPAQUE
END:VEVENT
END:VCALENDAR
