BEGIN:VCALENDAR
VERSION:2.0
METHOD:PUBLISH
BEGIN:VEVENT
DTSTART:20240517T150000Z
DTEND:20240519T210000Z
LOCATION:Grand Terrace, CA 92313
TRANSP: OPAQUE
SEQUENCE:0
UID:
DTSTAMP:20260419T223741Z
SUMMARY:Nice Sale in Grand Terrace!
DESCRIPTION:Nice Sale in Grand Terrace! Estate Sales by Dee 
UID:1776659861
STREET-ADDRESS:See website
POSTAL-CODE:92313
LOCALITY:Grand Terrace
REGION:ABBREV=CA
COUNTRY:ABBREV=US;ABBREV=USA:United States
URL;TYPE=Event Listing:https://estatesales.org/estate-sales/ca/grand-terrace/92313/nice-sale-in-grand-terrace-2315382
PRIORITY:1
CLASS:PUBLIC
SEQUENCE:0
STATUS:CONFIRMED
TRANSP:OPAQUE
END:VEVENT
END:VCALENDAR
