BEGIN:VCALENDAR
VERSION:2.0
METHOD:PUBLISH
BEGIN:VEVENT
DTSTART:20190517T150000Z
DTEND:20190519T220000Z
LOCATION:Galveston, TX 77550
TRANSP: OPAQUE
SEQUENCE:0
UID:
DTSTAMP:20260419T114550Z
SUMMARY:Galveston Warehouse  Antiques, Furniture, Artwork, Workshop & Interior Design Business Liquidation new Photos added, 05/12/2019 W.D. Dallas Furniture
DESCRIPTION:Galveston Warehouse  Antiques, Furniture, Artwork, Workshop & Interior Design Business Liquidation new Photos added, 05/12/2019 W.D. Dallas Furniture AEP Estate Liquidation 
UID:1776620750
STREET-ADDRESS:See website
POSTAL-CODE:77550
LOCALITY:Galveston
REGION:ABBREV=TX
COUNTRY:ABBREV=US;ABBREV=USA:United States
URL;TYPE=Event Listing:https://estatesales.org/estate-sales/tx/galveston/77550/galveston-warehouse-antiques-furniture-artwork-1640527
PRIORITY:1
CLASS:PUBLIC
SEQUENCE:0
STATUS:CONFIRMED
TRANSP:OPAQUE
END:VEVENT
END:VCALENDAR
