BEGIN:VCALENDAR
VERSION:2.0
METHOD:PUBLISH
BEGIN:VEVENT
DTSTART:20190517T170000Z
DTEND:20190518T230000Z
LOCATION:Santa Monica, CA 90403
TRANSP: OPAQUE
SEQUENCE:0
UID:
DTSTAMP:20260420T021553Z
SUMMARY:Satirday Deal Day on  Furnoture, Vintage, Art, Unique Items and More ALL MUST GO!
DESCRIPTION:Satirday Deal Day on  Furnoture, Vintage, Art, Unique Items and More ALL MUST GO! Triumphant Estate Sales of Los Angeles 
UID:1776672953
STREET-ADDRESS:See website
POSTAL-CODE:90403
LOCALITY:Santa Monica
REGION:ABBREV=CA
COUNTRY:ABBREV=US;ABBREV=USA:United States
URL;TYPE=Event Listing:https://estatesales.org/estate-sales/ca/santa-monica/90403/satirday-deal-day-on-furnoture-1661723
PRIORITY:1
CLASS:PUBLIC
SEQUENCE:0
STATUS:CONFIRMED
TRANSP:OPAQUE
END:VEVENT
END:VCALENDAR
