BEGIN:VCALENDAR
VERSION:2.0
METHOD:PUBLISH
BEGIN:VEVENT
DTSTART:20190517T140000Z
DTEND:20190517T210000Z
LOCATION:Bossier City, LA 71111
TRANSP: OPAQUE
SEQUENCE:0
UID:
DTSTAMP:20260421T033200Z
SUMMARY:Bee bend circle part 2! One day only! 50%Off & Bundle Deals. New Unseen Consignment Pieces Private Collection Firm. 
DESCRIPTION:Bee bend circle part 2! One day only! 50%Off & Bundle Deals. New Unseen Consignment Pieces Private Collection Firm.  Antique Hustle Estate Sales 
UID:1776763920
STREET-ADDRESS:See website
POSTAL-CODE:71111
LOCALITY:Bossier City
REGION:ABBREV=LA
COUNTRY:ABBREV=US;ABBREV=USA:United States
URL;TYPE=Event Listing:https://estatesales.org/estate-sales/la/bossier-city/71111/bee-bend-circle-part-2-1662439
PRIORITY:1
CLASS:PUBLIC
SEQUENCE:0
STATUS:CONFIRMED
TRANSP:OPAQUE
END:VEVENT
END:VCALENDAR
