BEGIN:VCALENDAR
VERSION:2.0
METHOD:PUBLISH
BEGIN:VEVENT
DTSTART:20180517T140000Z
DTEND:20180520T220000Z
LOCATION:Houston, TX 77058
TRANSP: OPAQUE
SEQUENCE:0
UID:
DTSTAMP:20260424T170903Z
SUMMARY:Dittmann Estate Sale
DESCRIPTION:Dittmann Estate Sale Arbor Antiques Services, Inc. 
UID:1777072143
STREET-ADDRESS:See website
POSTAL-CODE:77058
LOCALITY:Houston
REGION:ABBREV=TX
COUNTRY:ABBREV=US;ABBREV=USA:United States
URL;TYPE=Event Listing:https://estatesales.org/estate-sales/tx/houston/77058/littmann-estate-sale-1510189
PRIORITY:1
CLASS:PUBLIC
SEQUENCE:0
STATUS:CONFIRMED
TRANSP:OPAQUE
END:VEVENT
END:VCALENDAR
