BEGIN:VCALENDAR
VERSION:2.0
METHOD:PUBLISH
BEGIN:VEVENT
DTSTART:20140517T120000Z
DTEND:20140517T220000Z
LOCATION:Plano, TX 75075
TRANSP: OPAQUE
SEQUENCE:0
UID:
DTSTAMP:20260420T105155Z
SUMMARY:ESTATE/MOVING SALE 1 DAY ONLY!
DESCRIPTION:ESTATE/MOVING SALE 1 DAY ONLY! Gilbreath & Gilbreath LLC 
UID:1776703915
STREET-ADDRESS:See website
POSTAL-CODE:75075
LOCALITY:Plano
REGION:ABBREV=TX
COUNTRY:ABBREV=US;ABBREV=USA:United States
URL;TYPE=Event Listing:https://estatesales.org/estate-sales/tx/plano/75075/estatemoving-sale-1-day-only-385515
PRIORITY:1
CLASS:PUBLIC
SEQUENCE:0
STATUS:CONFIRMED
TRANSP:OPAQUE
END:VEVENT
END:VCALENDAR
