BEGIN:VCALENDAR
VERSION:2.0
METHOD:PUBLISH
BEGIN:VEVENT
DTSTART:20260516T140000Z
DTEND:20260517T180000Z
LOCATION:Vineland, NJ 08360 (Full address will be shown on Sat, May 16 9:00am)
TRANSP: OPAQUE
SEQUENCE:0
UID:
DTSTAMP:20260420T093309Z
SUMMARY:Estate Sale In Vineland, NJ
DESCRIPTION:Estate Sale In Vineland, NJ B&B Estate Sales 
UID:1776699189
STREET-ADDRESS:See website
POSTAL-CODE:08360
LOCALITY:Vineland
REGION:ABBREV=NJ
COUNTRY:ABBREV=US;ABBREV=USA:United States
URL;TYPE=Event Listing:https://estatesales.org/estate-sales/nj/vineland/08360/estate-sale-in-vineland-nj-2436044
PRIORITY:1
CLASS:PUBLIC
SEQUENCE:0
STATUS:CONFIRMED
TRANSP:OPAQUE
END:VEVENT
END:VCALENDAR
