BEGIN:VCALENDAR
VERSION:2.0
METHOD:PUBLISH
BEGIN:VEVENT
DTSTART:20260516T140000Z
DTEND:20260517T200000Z
LOCATION:Sugar Grove, IL 60554 (Full address will be shown on Fri, May 15 12:00am)
TRANSP: OPAQUE
SEQUENCE:0
UID:
DTSTAMP:20260424T000741Z
SUMMARY:GorgeousSugarGrove:Southwesternflair,furniture,garden,holiday,art,paperweights,fullkitchen,more!
DESCRIPTION:GorgeousSugarGrove:Southwesternflair,furniture,garden,holiday,art,paperweights,fullkitchen,more! A Rosey Glow Estate Sales 
UID:1777010861
STREET-ADDRESS:See website
POSTAL-CODE:60554
LOCALITY:Sugar Grove
REGION:ABBREV=IL
COUNTRY:ABBREV=US;ABBREV=USA:United States
URL;TYPE=Event Listing:https://estatesales.org/estate-sales/il/sugar-grove/60554/gorgeoussugargrovesouthwesternflairfurnituregardenholidayartpaperweightsfullkitchenmore-2437035
PRIORITY:1
CLASS:PUBLIC
SEQUENCE:0
STATUS:CONFIRMED
TRANSP:OPAQUE
END:VEVENT
END:VCALENDAR
