BEGIN:VCALENDAR
VERSION:2.0
METHOD:PUBLISH
BEGIN:VEVENT
DTSTART:20260516T140000Z
DTEND:20260517T200000Z
LOCATION:Joliet, IL 60435 (Full address will be shown on Fri, May 15 12:00am)
TRANSP: OPAQUE
SEQUENCE:0
UID:
DTSTAMP:20260421T233231Z
SUMMARY:Joliet Jewel! Quality furniture, Hummels, religious decor, local memorabilia, lots more!
DESCRIPTION:Joliet Jewel! Quality furniture, Hummels, religious decor, local memorabilia, lots more! A Rosey Glow Estate Sales 
UID:1776835951
STREET-ADDRESS:See website
POSTAL-CODE:60435
LOCALITY:Joliet
REGION:ABBREV=IL
COUNTRY:ABBREV=US;ABBREV=USA:United States
URL;TYPE=Event Listing:https://estatesales.org/estate-sales/il/joliet/60435/joliet-jewel-quality-furniture-hummels-2436494
PRIORITY:1
CLASS:PUBLIC
SEQUENCE:0
STATUS:CONFIRMED
TRANSP:OPAQUE
END:VEVENT
END:VCALENDAR
