BEGIN:VCALENDAR
VERSION:2.0
METHOD:PUBLISH
BEGIN:VEVENT
DTSTART:20260516T150000Z
DTEND:20260517T200000Z
LOCATION:Loveland, CO 80538 (Full address will be shown on Fri, May 15 9:00am)
TRANSP: OPAQUE
SEQUENCE:0
UID:
DTSTAMP:20260425T211848Z
SUMMARY:Loveland - High-end Furniture, Original artwork
DESCRIPTION:Loveland - High-end Furniture, Original artwork Blue Moon Estate Sales NoCO 
UID:1777173528
STREET-ADDRESS:See website
POSTAL-CODE:80538
LOCALITY:Loveland
REGION:ABBREV=CO
COUNTRY:ABBREV=US;ABBREV=USA:United States
URL;TYPE=Event Listing:https://estatesales.org/estate-sales/co/loveland/80538/loveland-highend-furniture-original-artwork-2437280
PRIORITY:1
CLASS:PUBLIC
SEQUENCE:0
STATUS:CONFIRMED
TRANSP:OPAQUE
END:VEVENT
END:VCALENDAR
