BEGIN:VCALENDAR
VERSION:2.0
METHOD:PUBLISH
BEGIN:VEVENT
DTSTART:20260516T160000Z
DTEND:20260517T065900Z
LOCATION:Mesa, AZ 85207 (Full address will be shown on Sat, May 16 4:00am)
TRANSP: OPAQUE
SEQUENCE:0
UID:
DTSTAMP:20260421T194900Z
SUMMARY:Multi-consigner Auction
DESCRIPTION:Multi-consigner Auction Blue Leaf Estate Auctions 
UID:1776822540
STREET-ADDRESS:See website
POSTAL-CODE:85207
LOCALITY:Mesa
REGION:ABBREV=AZ
COUNTRY:ABBREV=US;ABBREV=USA:United States
URL;TYPE=Event Listing:https://estatesales.org/estate-sales/az/mesa/85207/multiconsigner-auction-2436457
PRIORITY:1
CLASS:PUBLIC
SEQUENCE:0
STATUS:CONFIRMED
TRANSP:OPAQUE
END:VEVENT
END:VCALENDAR
