BEGIN:VCALENDAR
VERSION:2.0
METHOD:PUBLISH
BEGIN:VEVENT
DTSTART:20250516T150000Z
DTEND:20250518T200000Z
LOCATION:Katy, TX 77493
TRANSP: OPAQUE
SEQUENCE:0
UID:
DTSTAMP:20260425T074138Z
SUMMARY:Katy Sale with Lots and lots of cool items 50% off unless marked firm on Sunday
DESCRIPTION:Katy Sale with Lots and lots of cool items 50% off unless marked firm on Sunday Weaster Auctions 
UID:1777124498
STREET-ADDRESS:See website
POSTAL-CODE:77493
LOCALITY:Katy
REGION:ABBREV=TX
COUNTRY:ABBREV=US;ABBREV=USA:United States
URL;TYPE=Event Listing:https://estatesales.org/estate-sales/tx/katy/77493/katy-sale-with-lots-and-2378098
PRIORITY:1
CLASS:PUBLIC
SEQUENCE:0
STATUS:CONFIRMED
TRANSP:OPAQUE
END:VEVENT
END:VCALENDAR
