BEGIN:VCALENDAR
VERSION:2.0
METHOD:PUBLISH
BEGIN:VEVENT
DTSTART:20250516T160000Z
DTEND:20250518T210000Z
LOCATION:Oklahoma City, OK 73142
TRANSP: OPAQUE
SEQUENCE:0
UID:
DTSTAMP:20260424T042522Z
SUMMARY:2 GREAT ESTATE SALES IN THE VILLAS AT HIDDEN CREEK (#1 by Ellis Estate Liquidations)
DESCRIPTION:2 GREAT ESTATE SALES IN THE VILLAS AT HIDDEN CREEK (#1 by Ellis Estate Liquidations) Ellis Estate Liquidations, LLC 
UID:1777026322
STREET-ADDRESS:See website
POSTAL-CODE:73142
LOCALITY:Oklahoma City
REGION:ABBREV=OK
COUNTRY:ABBREV=US;ABBREV=USA:United States
URL;TYPE=Event Listing:https://estatesales.org/estate-sales/ok/oklahoma-city/73142/2-great-estate-sales-in-2377447
PRIORITY:1
CLASS:PUBLIC
SEQUENCE:0
STATUS:CONFIRMED
TRANSP:OPAQUE
END:VEVENT
END:VCALENDAR
