BEGIN:VCALENDAR
VERSION:2.0
METHOD:PUBLISH
BEGIN:VEVENT
DTSTART:20250516T120000Z
DTEND:20250517T200000Z
LOCATION:Van Buren, AR 72956
TRANSP: OPAQUE
SEQUENCE:0
UID:
DTSTAMP:20260424T165841Z
SUMMARY:Van Buren Picker Sale
DESCRIPTION:Van Buren Picker Sale Crouch Estate Sales 
UID:1777071521
STREET-ADDRESS:See website
POSTAL-CODE:72956
LOCALITY:Van Buren
REGION:ABBREV=AR
COUNTRY:ABBREV=US;ABBREV=USA:United States
URL;TYPE=Event Listing:https://estatesales.org/estate-sales/ar/van-buren/72956/van-buren-picker-sale-2378558
PRIORITY:1
CLASS:PUBLIC
SEQUENCE:0
STATUS:CONFIRMED
TRANSP:OPAQUE
END:VEVENT
END:VCALENDAR
