BEGIN:VCALENDAR
VERSION:2.0
METHOD:PUBLISH
BEGIN:VEVENT
DTSTART:20240516T160000Z
DTEND:20240518T200000Z
LOCATION:Los Angeles, CA 90042
TRANSP: OPAQUE
SEQUENCE:0
UID:
DTSTAMP:20260425T095627Z
SUMMARY:Grasons Co Palos Verdes 3 Day Vintage/Sports Memorabilia
DESCRIPTION:Grasons Co Palos Verdes 3 Day Vintage/Sports Memorabilia Grasons Co PV- Carson & Del Reys 
UID:1777132587
STREET-ADDRESS:See website
POSTAL-CODE:90042
LOCALITY:Los Angeles
REGION:ABBREV=CA
COUNTRY:ABBREV=US;ABBREV=USA:United States
URL;TYPE=Event Listing:https://estatesales.org/estate-sales/ca/highland-park/90042/grasons-co-palos-verdes-3-2314902
PRIORITY:1
CLASS:PUBLIC
SEQUENCE:0
STATUS:CONFIRMED
TRANSP:OPAQUE
END:VEVENT
END:VCALENDAR
