BEGIN:VCALENDAR
VERSION:2.0
METHOD:PUBLISH
BEGIN:VEVENT
DTSTART:20240516T120000Z
DTEND:20240518T170000Z
LOCATION:Nixa, MO 65714
TRANSP: OPAQUE
SEQUENCE:0
UID:
DTSTAMP:20260422T052605Z
SUMMARY:Stein Nixa Estate Sale
DESCRIPTION:Stein Nixa Estate Sale Christina & Co To The Rescue 
UID:1776857165
STREET-ADDRESS:See website
POSTAL-CODE:65714
LOCALITY:Nixa
REGION:ABBREV=MO
COUNTRY:ABBREV=US;ABBREV=USA:United States
URL;TYPE=Event Listing:https://estatesales.org/estate-sales/mo/nixa/65714/stein-nixa-estate-sale-2314346
PRIORITY:1
CLASS:PUBLIC
SEQUENCE:0
STATUS:CONFIRMED
TRANSP:OPAQUE
END:VEVENT
END:VCALENDAR
