BEGIN:VCALENDAR
VERSION:2.0
METHOD:PUBLISH
BEGIN:VEVENT
DTSTART:20160516T130000Z
DTEND:20160518T180000Z
LOCATION:By appointment only.
TRANSP: OPAQUE
SEQUENCE:0
UID:
DTSTAMP:20260419T113716Z
SUMMARY:HUMP DAY DISCOUNTS:   Full House Estate Sale!
DESCRIPTION:HUMP DAY DISCOUNTS:   Full House Estate Sale! Assisted Carefree Moves & Estate Services 
UID:1776620236
STREET-ADDRESS:See website
POSTAL-CODE:34655
LOCALITY:New Port Richey
REGION:ABBREV=FL
COUNTRY:ABBREV=US;ABBREV=USA:United States
URL;TYPE=Event Listing:https://estatesales.org/estate-sales/fl/new-port-richey/34655/hump-day-discounts-full-house-850007
PRIORITY:1
CLASS:PUBLIC
SEQUENCE:0
STATUS:CONFIRMED
TRANSP:OPAQUE
END:VEVENT
END:VCALENDAR
