BEGIN:VCALENDAR
VERSION:2.0
METHOD:PUBLISH
BEGIN:VEVENT
DTSTART:20150516T160000Z
DTEND:20150517T220000Z
LOCATION:Longmont, CO 80501
TRANSP: OPAQUE
SEQUENCE:0
UID:
DTSTAMP:20260419T113716Z
SUMMARY:unique estate sale being held at the St. Vrain Historical Society, Strawberry Festival Antique Show.
DESCRIPTION:unique estate sale being held at the St. Vrain Historical Society, Strawberry Festival Antique Show. Fistell's Fine Art and Collectibles  
UID:1776620236
STREET-ADDRESS:See website
POSTAL-CODE:80501
LOCALITY:Longmont
REGION:ABBREV=CO
COUNTRY:ABBREV=US;ABBREV=USA:United States
URL;TYPE=Event Listing:https://estatesales.org/estate-sales/co/longmont/80501/unique-estate-sale-being-held-548101
PRIORITY:1
CLASS:PUBLIC
SEQUENCE:0
STATUS:CONFIRMED
TRANSP:OPAQUE
END:VEVENT
END:VCALENDAR
