BEGIN:VCALENDAR
VERSION:2.0
METHOD:PUBLISH
BEGIN:VEVENT
DTSTART:20260515T140000Z
DTEND:20260517T190000Z
LOCATION:Cayce, SC 29033 (Full address will be shown on Thu, May 14 9:00am)
TRANSP: OPAQUE
SEQUENCE:0
UID:
DTSTAMP:20260422T083841Z
SUMMARY:THE AVENUES ESTATE SALE
DESCRIPTION:THE AVENUES ESTATE SALE Carolina Estate of Mine,LLC 
UID:1776868721
STREET-ADDRESS:See website
POSTAL-CODE:29033
LOCALITY:Cayce
REGION:ABBREV=SC
COUNTRY:ABBREV=US;ABBREV=USA:United States
URL;TYPE=Event Listing:https://estatesales.org/estate-sales/sc/cayce/29033/the-avenues-estate-sale-2436545
PRIORITY:1
CLASS:PUBLIC
SEQUENCE:0
STATUS:CONFIRMED
TRANSP:OPAQUE
END:VEVENT
END:VCALENDAR
