BEGIN:VCALENDAR
VERSION:2.0
METHOD:PUBLISH
BEGIN:VEVENT
DTSTART:20260515T170000Z
DTEND:20260517T000000Z
LOCATION:Cedar City, UT 84721 (Full address will be shown on Thu, May 14 8:00am)
TRANSP: OPAQUE
SEQUENCE:0
UID:
DTSTAMP:20260421T144128Z
SUMMARY:Esther's Estate Sale - A Collector's Dream! Antiques, dolls, collectibles, furniture and so much more!
DESCRIPTION:Esther's Estate Sale - A Collector's Dream! Antiques, dolls, collectibles, furniture and so much more!
UID:1776804088
STREET-ADDRESS:See website
POSTAL-CODE:84721
LOCALITY:Cedar City
REGION:ABBREV=UT
COUNTRY:ABBREV=US;ABBREV=USA:United States
URL;TYPE=Event Listing:https://estatesales.org/estate-sales/ut/cedar-city/84721/esthers-estate-sale-a-collectors-2436184
PRIORITY:1
CLASS:PUBLIC
SEQUENCE:0
STATUS:CONFIRMED
TRANSP:OPAQUE
END:VEVENT
END:VCALENDAR
