BEGIN:VCALENDAR
VERSION:2.0
METHOD:PUBLISH
BEGIN:VEVENT
DTSTART:20260515T130000Z
DTEND:20260517T180000Z
LOCATION:Nashville, TN 37205 (Full address will be shown on Thu, May 14 9:00am)
TRANSP: OPAQUE
SEQUENCE:0
UID:
DTSTAMP:20260422T192131Z
SUMMARY:Wonderful Nashville Estate Sale
DESCRIPTION:Wonderful Nashville Estate Sale Estate Greats 
UID:1776907291
STREET-ADDRESS:See website
POSTAL-CODE:37205
LOCALITY:Nashville
REGION:ABBREV=TN
COUNTRY:ABBREV=US;ABBREV=USA:United States
URL;TYPE=Event Listing:https://estatesales.org/estate-sales/tn/nashville/37205/wonderful-nashville-estate-sale-2436689
PRIORITY:1
CLASS:PUBLIC
SEQUENCE:0
STATUS:CONFIRMED
TRANSP:OPAQUE
END:VEVENT
END:VCALENDAR
