BEGIN:VCALENDAR
VERSION:2.0
METHOD:PUBLISH
BEGIN:VEVENT
DTSTART:20260515T160000Z
DTEND:20260516T200000Z
LOCATION:Pasadena, CA 91107 (Full address will be shown on Fri, May 15 6:00am)
TRANSP: OPAQUE
SEQUENCE:0
UID:
DTSTAMP:20260421T220347Z
SUMMARY:Grasons Prestige 2 Day Estate Sale in Pasadena
DESCRIPTION:Grasons Prestige 2 Day Estate Sale in Pasadena Grasons Co Prestige Pasadena & Territories  
UID:1776830627
STREET-ADDRESS:See website
POSTAL-CODE:91107
LOCALITY:Pasadena
REGION:ABBREV=CA
COUNTRY:ABBREV=US;ABBREV=USA:United States
URL;TYPE=Event Listing:https://estatesales.org/estate-sales/ca/pasadena/91107/grasons-prestige-2-day-estate-2436482
PRIORITY:1
CLASS:PUBLIC
SEQUENCE:0
STATUS:CONFIRMED
TRANSP:OPAQUE
END:VEVENT
END:VCALENDAR
