BEGIN:VCALENDAR
VERSION:2.0
METHOD:PUBLISH
BEGIN:VEVENT
DTSTART:20260515T150000Z
DTEND:20260517T200000Z
LOCATION:Scottsdale, AZ 85255 (Full address will be shown on Thu, May 14 12:00am)
TRANSP: OPAQUE
SEQUENCE:0
UID:
DTSTAMP:20260421T162149Z
SUMMARY:Scottsdale Estate Sale
DESCRIPTION:Scottsdale Estate Sale Fresh Start Estate Sales LLC 
UID:1776810109
STREET-ADDRESS:See website
POSTAL-CODE:85255
LOCALITY:Scottsdale
REGION:ABBREV=AZ
COUNTRY:ABBREV=US;ABBREV=USA:United States
URL;TYPE=Event Listing:https://estatesales.org/estate-sales/az/scottsdale/85255/scottsdale-estate-sale-2436294
PRIORITY:1
CLASS:PUBLIC
SEQUENCE:0
STATUS:CONFIRMED
TRANSP:OPAQUE
END:VEVENT
END:VCALENDAR
