BEGIN:VCALENDAR
VERSION:2.0
METHOD:PUBLISH
BEGIN:VEVENT
DTSTART:20250515T150000Z
DTEND:20250517T200000Z
LOCATION:Aurora, CO 80017
TRANSP: OPAQUE
SEQUENCE:0
UID:
DTSTAMP:20260419T061834Z
SUMMARY:Grasons of Highlands Ranch - MCM Time-Capsule and more….
DESCRIPTION:Grasons of Highlands Ranch - MCM Time-Capsule and more…. Grasons of Southwest Denver, CO 
UID:1776601114
STREET-ADDRESS:See website
POSTAL-CODE:80017
LOCALITY:Aurora
REGION:ABBREV=CO
COUNTRY:ABBREV=US;ABBREV=USA:United States
URL;TYPE=Event Listing:https://estatesales.org/estate-sales/co/aurora/80017/grasons-of-highlands-ranch-mcm-2378035
PRIORITY:1
CLASS:PUBLIC
SEQUENCE:0
STATUS:CONFIRMED
TRANSP:OPAQUE
END:VEVENT
END:VCALENDAR
