BEGIN:VCALENDAR
VERSION:2.0
METHOD:PUBLISH
BEGIN:VEVENT
DTSTART:20250515T130000Z
DTEND:20250516T190000Z
LOCATION:Midland Park, NJ 07432
TRANSP: OPAQUE
SEQUENCE:0
UID:
DTSTAMP:20260423T130242Z
SUMMARY:Town & Country Estate Sales
DESCRIPTION:Town & Country Estate Sales Town & Country Estate & Moving Sales 
UID:1776970962
STREET-ADDRESS:See website
POSTAL-CODE:07432
LOCALITY:Midland Park
REGION:ABBREV=NJ
COUNTRY:ABBREV=US;ABBREV=USA:United States
URL;TYPE=Event Listing:https://estatesales.org/estate-sales/nj/midland-park-/07432/town-country-estate-sales-2378331
PRIORITY:1
CLASS:PUBLIC
SEQUENCE:0
STATUS:CONFIRMED
TRANSP:OPAQUE
END:VEVENT
END:VCALENDAR
