BEGIN:VCALENDAR
VERSION:2.0
METHOD:PUBLISH
BEGIN:VEVENT
DTSTART:20150515T160000Z
DTEND:20150518T230000Z
LOCATION:Camarillo, CA 93012
TRANSP: OPAQUE
SEQUENCE:0
UID:
DTSTAMP:20260424T202607Z
SUMMARY:Gorgeous Camarillo Estate
DESCRIPTION:Gorgeous Camarillo Estate Sharon Yost Estate Sales 
UID:1777083967
STREET-ADDRESS:See website
POSTAL-CODE:93012
LOCALITY:Camarillo
REGION:ABBREV=CA
COUNTRY:ABBREV=US;ABBREV=USA:United States
URL;TYPE=Event Listing:https://estatesales.org/estate-sales/ca/camarillo/93012/gorgeous-camarillo-estate-546117
PRIORITY:1
CLASS:PUBLIC
SEQUENCE:0
STATUS:CONFIRMED
TRANSP:OPAQUE
END:VEVENT
END:VCALENDAR
