BEGIN:VCALENDAR
VERSION:2.0
METHOD:PUBLISH
BEGIN:VEVENT
DTSTART:20150515T130000Z
DTEND:20150516T200000Z
LOCATION:Livonia, MI 48150
TRANSP: OPAQUE
SEQUENCE:0
UID:
DTSTAMP:20260421T055334Z
SUMMARY:Everything you need for the Home is at this Sale by Caring Transitions of Oakland County!  
DESCRIPTION:Everything you need for the Home is at this Sale by Caring Transitions of Oakland County!   Caring Transitions of Oakland County MI 
UID:1776772414
STREET-ADDRESS:See website
POSTAL-CODE:48150
LOCALITY:Livonia
REGION:ABBREV=MI
COUNTRY:ABBREV=US;ABBREV=USA:United States
URL;TYPE=Event Listing:https://estatesales.org/estate-sales/mi/livonia/48150/everything-you-need-for-the-545583
PRIORITY:1
CLASS:PUBLIC
SEQUENCE:0
STATUS:CONFIRMED
TRANSP:OPAQUE
END:VEVENT
END:VCALENDAR
