BEGIN:VCALENDAR
VERSION:2.0
METHOD:PUBLISH
BEGIN:VEVENT
DTSTART:20150515T170000Z
DTEND:20150517T190000Z
LOCATION:East Hampton, NY 11937
TRANSP: OPAQUE
SEQUENCE:0
UID:
DTSTAMP:20260423T224643Z
SUMMARY:BAKER, CRATE & BARREL, SERENA & LILY FURNISHINGS, DESIGNER HANDBAGS, WALLETS, CLOTHING, COATS AND MORE!
DESCRIPTION:BAKER, CRATE & BARREL, SERENA & LILY FURNISHINGS, DESIGNER HANDBAGS, WALLETS, CLOTHING, COATS AND MORE! re.luxeHamptons 
UID:1777006003
STREET-ADDRESS:See website
POSTAL-CODE:11937
LOCALITY:East Hampton
REGION:ABBREV=NY
COUNTRY:ABBREV=US;ABBREV=USA:United States
URL;TYPE=Event Listing:https://estatesales.org/estate-sales/ny/east-hampton/11937/baker-crate-barrel-serena-lily-548919
PRIORITY:1
CLASS:PUBLIC
SEQUENCE:0
STATUS:CONFIRMED
TRANSP:OPAQUE
END:VEVENT
END:VCALENDAR
