BEGIN:VCALENDAR
VERSION:2.0
METHOD:PUBLISH
BEGIN:VEVENT
DTSTART:20260514T150000Z
DTEND:20260517T210000Z
LOCATION:Elk Grove Village, IL 60007 (Full address will be shown on Wed, May 13 9:00am)
TRANSP: OPAQUE
SEQUENCE:0
UID:
DTSTAMP:20260424T193716Z
SUMMARY:Elk Grove Village Estate Sale - Furniture, Home & Holiday Decor, Collectibles, Clothing, Jewelry
DESCRIPTION:Elk Grove Village Estate Sale - Furniture, Home & Holiday Decor, Collectibles, Clothing, Jewelry Brie's Estate Sales 
UID:1777081036
STREET-ADDRESS:See website
POSTAL-CODE:60007
LOCALITY:Elk Grove Village
REGION:ABBREV=IL
COUNTRY:ABBREV=US;ABBREV=USA:United States
URL;TYPE=Event Listing:https://estatesales.org/estate-sales/il/elk-grove-village/60007/elk-grove-village-estate-sale-2437166
PRIORITY:1
CLASS:PUBLIC
SEQUENCE:0
STATUS:CONFIRMED
TRANSP:OPAQUE
END:VEVENT
END:VCALENDAR
