BEGIN:VCALENDAR
VERSION:2.0
METHOD:PUBLISH
BEGIN:VEVENT
DTSTART:20260514T150000Z
DTEND:20260516T210000Z
LOCATION:By appointment only.
TRANSP: OPAQUE
SEQUENCE:0
UID:
DTSTAMP:20260421T141132Z
SUMMARY:Texas City
DESCRIPTION:Texas City AEP Estate Liquidation 
UID:1776802292
STREET-ADDRESS:See website
POSTAL-CODE:77590
LOCALITY:Texas City
REGION:ABBREV=TX
COUNTRY:ABBREV=US;ABBREV=USA:United States
URL;TYPE=Event Listing:https://estatesales.org/estate-sales/tx/texas-city/77590/texas-city-2436368
PRIORITY:1
CLASS:PUBLIC
SEQUENCE:0
STATUS:CONFIRMED
TRANSP:OPAQUE
END:VEVENT
END:VCALENDAR
