BEGIN:VCALENDAR
VERSION:2.0
METHOD:PUBLISH
BEGIN:VEVENT
DTSTART:20260514T130000Z
DTEND:20260516T200000Z
LOCATION:Dallas, TX 75238 (Full address will be shown on Wed, May 13 9:00am)
TRANSP: OPAQUE
SEQUENCE:0
UID:
DTSTAMP:20260422T125308Z
SUMMARY:ANTIQUE & VINTAGE FURNITURE APPLIANCE HABERDASHERY ESTATE SALE BY ALAMO AZTEK ESTATE SALES DFW
DESCRIPTION:ANTIQUE & VINTAGE FURNITURE APPLIANCE HABERDASHERY ESTATE SALE BY ALAMO AZTEK ESTATE SALES DFW Alamo Aztek Estate Sales DFW     
UID:1776883988
STREET-ADDRESS:See website
POSTAL-CODE:75238
LOCALITY:Dallas
REGION:ABBREV=TX
COUNTRY:ABBREV=US;ABBREV=USA:United States
URL;TYPE=Event Listing:https://estatesales.org/estate-sales/tx/dallas/75238/antique-vintage-furniture-appliance-haberdashery-2436573
PRIORITY:1
CLASS:PUBLIC
SEQUENCE:0
STATUS:CONFIRMED
TRANSP:OPAQUE
END:VEVENT
END:VCALENDAR
