BEGIN:VCALENDAR
VERSION:2.0
METHOD:PUBLISH
BEGIN:VEVENT
DTSTART:20260514T160000Z
DTEND:20260516T200000Z
LOCATION:Lake Forest, CA 92630 (Full address will be shown on Thu, May 14 6:00am)
TRANSP: OPAQUE
SEQUENCE:0
UID:
DTSTAMP:20260422T112359Z
SUMMARY:Grasons Co Elite of South OC 2 Day Estate Sale in Lake Forest
DESCRIPTION:Grasons Co Elite of South OC 2 Day Estate Sale in Lake Forest Grasons Co of South Orange County 
UID:1776878639
STREET-ADDRESS:See website
POSTAL-CODE:92630
LOCALITY:Lake Forest
REGION:ABBREV=CA
COUNTRY:ABBREV=US;ABBREV=USA:United States
URL;TYPE=Event Listing:https://estatesales.org/estate-sales/ca/lake-forest/92630/grasons-co-elite-of-south-2436486
PRIORITY:1
CLASS:PUBLIC
SEQUENCE:0
STATUS:CONFIRMED
TRANSP:OPAQUE
END:VEVENT
END:VCALENDAR
