BEGIN:VCALENDAR
VERSION:2.0
METHOD:PUBLISH
BEGIN:VEVENT
DTSTART:20250514T140000Z
DTEND:20250514T213000Z
LOCATION:Portsmouth, VA 23707
TRANSP: OPAQUE
SEQUENCE:0
UID:
DTSTAMP:20260421T032551Z
SUMMARY:STORAGE AUCTION 804 DOUGLAS AVENUE PORTSMOUTH, VA 23707 WED. MAY 14, 10:00 AM SHARP
DESCRIPTION:STORAGE AUCTION 804 DOUGLAS AVENUE PORTSMOUTH, VA 23707 WED. MAY 14, 10:00 AM SHARP Randy's Auction Gallery Ltd. 
UID:1776763551
STREET-ADDRESS:See website
POSTAL-CODE:23707
LOCALITY:Portsmouth
REGION:ABBREV=VA
COUNTRY:ABBREV=US;ABBREV=USA:United States
URL;TYPE=Event Listing:https://estatesales.org/estate-sales/va/portsmouth/23707/storage-auction-804-douglas-avenue-2373516
PRIORITY:1
CLASS:PUBLIC
SEQUENCE:0
STATUS:CONFIRMED
TRANSP:OPAQUE
END:VEVENT
END:VCALENDAR
