BEGIN:VCALENDAR
VERSION:2.0
METHOD:PUBLISH
BEGIN:VEVENT
DTSTART:20170514T180000Z
DTEND:20170514T200000Z
LOCATION:Vassar, MI 48768
TRANSP: OPAQUE
SEQUENCE:0
UID:
DTSTAMP:20260423T183757Z
SUMMARY:Public Consignment Auction
DESCRIPTION:Public Consignment Auction TIM'S AUCTION SERVICE 
UID:1776991077
STREET-ADDRESS:See website
POSTAL-CODE:48768
LOCALITY:Vassar
REGION:ABBREV=MI
COUNTRY:ABBREV=US;ABBREV=USA:United States
URL;TYPE=Event Listing:https://estatesales.org/estate-sales/mi/vassar/48768/public-consignment-auction-1186203
PRIORITY:1
CLASS:PUBLIC
SEQUENCE:0
STATUS:CONFIRMED
TRANSP:OPAQUE
END:VEVENT
END:VCALENDAR
