BEGIN:VCALENDAR
VERSION:2.0
METHOD:PUBLISH
BEGIN:VEVENT
DTSTART:20140514T130000Z
DTEND:20140518T210000Z
LOCATION:By appointment only.
TRANSP: OPAQUE
SEQUENCE:0
UID:
DTSTAMP:20260421T024408Z
SUMMARY:HERRIN EXECUTIVE INTERNET AUCTION
DESCRIPTION:HERRIN EXECUTIVE INTERNET AUCTION Caring Transitions of Southern Illinois 
UID:1776761048
STREET-ADDRESS:See website
POSTAL-CODE:62948
LOCALITY:Herrin
REGION:ABBREV=IL
COUNTRY:ABBREV=US;ABBREV=USA:United States
URL;TYPE=Event Listing:https://estatesales.org/estate-sales/il/herrin/62948/herrin-executive-internet-auction-377543
PRIORITY:1
CLASS:PUBLIC
SEQUENCE:0
STATUS:CONFIRMED
TRANSP:OPAQUE
END:VEVENT
END:VCALENDAR
