BEGIN:VCALENDAR
VERSION:2.0
METHOD:PUBLISH
BEGIN:VEVENT
DTSTART:20240513T133400Z
DTEND:20240530T200000Z
LOCATION:Saint Louis, MO 63119
TRANSP: OPAQUE
SEQUENCE:0
UID:
DTSTAMP:20260421T095032Z
SUMMARY:Fine Jewelry, Luxury Handbags, Fine Art, Vintage Sterling Silver - You Must Have Now!
DESCRIPTION:Fine Jewelry, Luxury Handbags, Fine Art, Vintage Sterling Silver - You Must Have Now! Hallmark Auctions 
UID:1776786632
STREET-ADDRESS:See website
POSTAL-CODE:63119
LOCALITY:Saint Louis
REGION:ABBREV=MO
COUNTRY:ABBREV=US;ABBREV=USA:United States
URL;TYPE=Event Listing:https://estatesales.org/estate-sales/mo/webster-groves-/63119/fine-jewelry-luxury-handbags-fine-2315066
PRIORITY:1
CLASS:PUBLIC
SEQUENCE:0
STATUS:CONFIRMED
TRANSP:OPAQUE
END:VEVENT
END:VCALENDAR
