BEGIN:VCALENDAR
VERSION:2.0
METHOD:PUBLISH
BEGIN:VEVENT
DTSTART:20230512T160000Z
DTEND:20230514T200000Z
LOCATION:Palmyra, VA 22963
TRANSP: OPAQUE
SEQUENCE:0
UID:
DTSTAMP:20260423T203436Z
SUMMARY:Vintage Sale in Lake Monticello
DESCRIPTION:Vintage Sale in Lake Monticello Estate Sales and Services LLC 
UID:1776998076
STREET-ADDRESS:See website
POSTAL-CODE:22963
LOCALITY:Palmyra
REGION:ABBREV=VA
COUNTRY:ABBREV=US;ABBREV=USA:United States
URL;TYPE=Event Listing:https://estatesales.org/estate-sales/va/palmyra/22963/vintage-sale-in-lake-monticello-2180319
PRIORITY:1
CLASS:PUBLIC
SEQUENCE:0
STATUS:CONFIRMED
TRANSP:OPAQUE
END:VEVENT
END:VCALENDAR
