BEGIN:VCALENDAR
VERSION:2.0
METHOD:PUBLISH
BEGIN:VEVENT
DTSTART:20230512T160000Z
DTEND:20230513T180000Z
LOCATION:Charlotte, NC 28214
TRANSP: OPAQUE
SEQUENCE:0
UID:
DTSTAMP:20260422T014648Z
SUMMARY:50% off
DESCRIPTION:50% off EZ Way Estate Solutions 
UID:1776844008
STREET-ADDRESS:See website
POSTAL-CODE:28214
LOCALITY:Charlotte
REGION:ABBREV=NC
COUNTRY:ABBREV=US;ABBREV=USA:United States
URL;TYPE=Event Listing:https://estatesales.org/estate-sales/nc/charlotte-/28214/50-off-2181469
PRIORITY:1
CLASS:PUBLIC
SEQUENCE:0
STATUS:CONFIRMED
TRANSP:OPAQUE
END:VEVENT
END:VCALENDAR
