BEGIN:VCALENDAR
VERSION:2.0
METHOD:PUBLISH
BEGIN:VEVENT
DTSTART:20230512T160000Z
DTEND:20230513T200000Z
LOCATION:Antioch, CA 94531
TRANSP: OPAQUE
SEQUENCE:0
UID:
DTSTAMP:20260423T062911Z
SUMMARY:Cars, FULL garage, 3 Rooms of Quality Clothing, and Cool Furnishings!
DESCRIPTION:Cars, FULL garage, 3 Rooms of Quality Clothing, and Cool Furnishings! J and C Estate Sales 
UID:1776947351
STREET-ADDRESS:See website
POSTAL-CODE:94531
LOCALITY:Antioch
REGION:ABBREV=CA
COUNTRY:ABBREV=US;ABBREV=USA:United States
URL;TYPE=Event Listing:https://estatesales.org/estate-sales/ca/antioch/94531/cars-full-garage-3-rooms-2179699
PRIORITY:1
CLASS:PUBLIC
SEQUENCE:0
STATUS:CONFIRMED
TRANSP:OPAQUE
END:VEVENT
END:VCALENDAR
