BEGIN:VCALENDAR
VERSION:2.0
METHOD:PUBLISH
BEGIN:VEVENT
DTSTART:20230512T120000Z
DTEND:20230514T170000Z
LOCATION:Harrison, TN 37341
TRANSP: OPAQUE
SEQUENCE:0
UID:
DTSTAMP:20260421T054308Z
SUMMARY:Harrison, TN Estate. Sale
DESCRIPTION:Harrison, TN Estate. Sale Tender Care Move Management-TN 
UID:1776771788
STREET-ADDRESS:See website
POSTAL-CODE:37341
LOCALITY:Harrison
REGION:ABBREV=TN
COUNTRY:ABBREV=US;ABBREV=USA:United States
URL;TYPE=Event Listing:https://estatesales.org/estate-sales/tn/harrison/37341/harrison-tn-estate-sale-2178573
PRIORITY:1
CLASS:PUBLIC
SEQUENCE:0
STATUS:CONFIRMED
TRANSP:OPAQUE
END:VEVENT
END:VCALENDAR
